BEGIN:VCALENDAR
VERSION:2.0
PRODID:-//MHcrafted - ECPv6.15.20//NONSGML v1.0//EN
CALSCALE:GREGORIAN
METHOD:PUBLISH
X-WR-CALNAME:MHcrafted
X-ORIGINAL-URL:https://mhcrafted.com
X-WR-CALDESC:Events for MHcrafted
REFRESH-INTERVAL;VALUE=DURATION:PT1H
X-Robots-Tag:noindex
X-PUBLISHED-TTL:PT1H
BEGIN:VTIMEZONE
TZID:UTC
BEGIN:STANDARD
TZOFFSETFROM:+0000
TZOFFSETTO:+0000
TZNAME:UTC
DTSTART:20180101T000000
END:STANDARD
END:VTIMEZONE
BEGIN:VEVENT
DTSTART;TZID=UTC:20190916T093000
DTEND;TZID=UTC:20190920T180000
DTSTAMP:20260423T044943
CREATED:20190528T224455Z
LAST-MODIFIED:20190529T001202Z
UID:1916-1568626200-1569002400@mhcrafted.com
SUMMARY:THE ARTFUL BROOM at Mountain Heritage Handcraft
DESCRIPTION:This 5 day immersion will whisk you beyond crafting the basic broom\, into the Fine Art of Broom Making. Students will explore novel plaiting and stitching techniques\, multiple headed brooms\, techniques for adding dyed broomcorn\, and brooms as sculptural pieces; for Art’s sake! \nFunctional & fanciful\, great gifts for friends\, family & home: multiple brooms will be made by all\, and students will leave with the know-how and inspiration to continue making Artful brooms on their own.  *Some broom making experience is required. \nMATERIALS FEE: All tool rentals and the materials needed for each student will be provided by the instructor for all inclusive fee of $100 (check or cash) payable at the time of the class.
URL:https://mhcrafted.com/event/the-artful-broom/
LOCATION:MOUNTAIN HERITAGE HANDCRAFT STUDIO\, 2639 Maxwell Road\, Blue Ridge\, GA\, 30513\, United States
CATEGORIES:MH CLASSES
ATTACH;FMTTYPE=image/jpeg:https://mhcrafted.com/wp-content/uploads/2017/05/TripleAntlerBroom-Version-2.jpg
ORGANIZER;CN="Max Hendry":MAILTO:mail@MHcrafted.com
END:VEVENT
END:VCALENDAR