BEGIN:VCALENDAR
VERSION:2.0
PRODID:-//MHcrafted - ECPv6.15.20//NONSGML v1.0//EN
CALSCALE:GREGORIAN
METHOD:PUBLISH
X-ORIGINAL-URL:https://mhcrafted.com
X-WR-CALDESC:Events for MHcrafted
REFRESH-INTERVAL;VALUE=DURATION:PT1H
X-Robots-Tag:noindex
X-PUBLISHED-TTL:PT1H
BEGIN:VTIMEZONE
TZID:UTC
BEGIN:STANDARD
TZOFFSETFROM:+0000
TZOFFSETTO:+0000
TZNAME:UTC
DTSTART:20170101T000000
END:STANDARD
END:VTIMEZONE
BEGIN:VEVENT
DTSTART;TZID=UTC:20181027T093000
DTEND;TZID=UTC:20181028T173000
DTSTAMP:20260425T184726
CREATED:20180807T193523Z
LAST-MODIFIED:20181023T091429Z
UID:1855-1540632600-1540747800@mhcrafted.com
SUMMARY:WHISKED AWAY WEEKEND at Mountain Heritage Handcraft
DESCRIPTION:Spend a whirlwind weekend learning to craft various styles of handmade whisk brooms. Students will explore functional decorative whisk designs\, uses of color and at least 4 different construction styles\, to make a cache of whisks to take home\, along with the know-how to create more on their own. These highly useful beautiful gems of the sweeper world make fantastic gifts\, as well as being very fun and satisfying to make. All class tools and materials are included. All levels welcome. Some hand strength required.
URL:https://mhcrafted.com/event/whisked-away-weekend-at-mountain-heritage-handcraft/
LOCATION:MOUNTAIN HERITAGE HANDCRAFT STUDIO\, 2639 Maxwell Road\, Blue Ridge\, GA\, 30513\, United States
CATEGORIES:MH CLASSES,TEACHING
ATTACH;FMTTYPE=image/jpeg:https://mhcrafted.com/wp-content/uploads/2018/08/TriadWisks.jpg
ORGANIZER;CN="Max Hendry":MAILTO:mail@MHcrafted.com
END:VEVENT
END:VCALENDAR