BEGIN:VCALENDAR
VERSION:2.0
PRODID:-//MHcrafted - ECPv6.15.20//NONSGML v1.0//EN
CALSCALE:GREGORIAN
METHOD:PUBLISH
X-WR-CALNAME:MHcrafted
X-ORIGINAL-URL:https://mhcrafted.com
X-WR-CALDESC:Events for MHcrafted
REFRESH-INTERVAL;VALUE=DURATION:PT1H
X-Robots-Tag:noindex
X-PUBLISHED-TTL:PT1H
BEGIN:VTIMEZONE
TZID:America/New_York
BEGIN:DAYLIGHT
TZOFFSETFROM:-0500
TZOFFSETTO:-0400
TZNAME:EDT
DTSTART:20120311T070000
END:DAYLIGHT
BEGIN:STANDARD
TZOFFSETFROM:-0400
TZOFFSETTO:-0500
TZNAME:EST
DTSTART:20121104T060000
END:STANDARD
BEGIN:DAYLIGHT
TZOFFSETFROM:-0500
TZOFFSETTO:-0400
TZNAME:EDT
DTSTART:20130310T070000
END:DAYLIGHT
BEGIN:STANDARD
TZOFFSETFROM:-0400
TZOFFSETTO:-0500
TZNAME:EST
DTSTART:20131103T060000
END:STANDARD
BEGIN:DAYLIGHT
TZOFFSETFROM:-0500
TZOFFSETTO:-0400
TZNAME:EDT
DTSTART:20140309T070000
END:DAYLIGHT
BEGIN:STANDARD
TZOFFSETFROM:-0400
TZOFFSETTO:-0500
TZNAME:EST
DTSTART:20141102T060000
END:STANDARD
END:VTIMEZONE
BEGIN:VEVENT
DTSTART;TZID=America/New_York:20130629T100000
DTEND;TZID=America/New_York:20130630T170000
DTSTAMP:20260420T181319
CREATED:20130529T212754Z
LAST-MODIFIED:20130529T213941Z
UID:564-1372500000-1372611600@mhcrafted.com
SUMMARY:Mountain Artisans SUMMERTIME FINE ARTS & CRAFTS SHOW & Artist Demonstrations
DESCRIPTION:Mountain Artisans Fine Art & Craft Show outside Asheville NC Organic Artist Tree Mark Hendry & JoAnna Belmont\nOrganic Artist Tree will have a booth of their Handcrafted Heirloom Art for sale. Mark Hendry will be conducting a broom making demonstration & JoAnna Belmont will be demonstrating basket weaving.
URL:https://mhcrafted.com/event/mountain-artisans-summertime-fine-arts-crafts-show-10am-5pm-saturday-june-29th-sunday-june-30th/
LOCATION:GA
END:VEVENT
BEGIN:VEVENT
DTSTART;TZID=America/New_York:20130601T100000
DTEND;TZID=America/New_York:20130601T170000
DTSTAMP:20260420T181319
CREATED:20130520T025045Z
LAST-MODIFIED:20130520T025740Z
UID:550-1370080800-1370106000@mhcrafted.com
SUMMARY:NEW RETAIL STORE OPENS in Copperhill\, Tennessee!
DESCRIPTION:Organic Artist Tree will open their retail gallery / artist studio in Copperhill\, Tennessee @ 111 Ocoee Street  SATURDAY\, June 1st\, 2013
URL:https://mhcrafted.com/event/store-opens-in-copperhill-tennessee/
LOCATION:GA
ORGANIZER;CN="Mark Hendry / Jo Anna Belmont":MAILTO:mail@OATree.com
END:VEVENT
BEGIN:VEVENT
DTSTART;TZID=America/New_York:20130222T170000
DTEND;TZID=America/New_York:20130222T170000
DTSTAMP:20260420T181319
CREATED:20130221T083742Z
LAST-MODIFIED:20130227T110827Z
UID:159-1361552400-1361552400@mhcrafted.com
SUMMARY:Antler Basketry Weekend Class
DESCRIPTION:Spend a weekend in the beautiful bucolic mountain community of the John C. Campbell Folk School creating a one-of-a-kind basket using a shed deer antler for inspiration. Mark Hendry & Pattie Bagley are teaming up once again to teach the Antler Basketry Weekend class in Brasstown\, North Carolina\, just over an hour from Atlanta & Chattanooga. Set your creative side free and come join the fun!
URL:https://mhcrafted.com/event/antler-basketry/
LOCATION:GA
END:VEVENT
END:VCALENDAR