BEGIN:VCALENDAR
VERSION:2.0
PRODID:-//MHcrafted - ECPv6.15.20//NONSGML v1.0//EN
CALSCALE:GREGORIAN
METHOD:PUBLISH
X-ORIGINAL-URL:https://mhcrafted.com
X-WR-CALDESC:Events for MHcrafted
REFRESH-INTERVAL;VALUE=DURATION:PT1H
X-Robots-Tag:noindex
X-PUBLISHED-TTL:PT1H
BEGIN:VTIMEZONE
TZID:UTC
BEGIN:STANDARD
TZOFFSETFROM:+0000
TZOFFSETTO:+0000
TZNAME:UTC
DTSTART:20170101T000000
END:STANDARD
END:VTIMEZONE
BEGIN:VEVENT
DTSTART;TZID=UTC:20180609T093000
DTEND;TZID=UTC:20180610T173000
DTSTAMP:20260425T234512
CREATED:20180218T095659Z
LAST-MODIFIED:20180407T230408Z
UID:1777-1528536600-1528651800@mhcrafted.com
SUMMARY:MAKING TRADITIONAL BARK BASKETRY at MHcrafted Workshop
DESCRIPTION:Learn to harvest bark and fold into useful and beautiful baskets using the traditional techniques of our Appalachian Indian ancestors. \nNothing goes to waste. Students will begin by hand-peeling Tulip Poplar bark from freshly cut logs we harvest from our property. This variety of tree is a rapid and prolific grower in this area\, and trees are selected to thin out the woodlands in order to create healthier forests. The peeled logs will be seasoned and used for firewood to heat the workshop in the winter. \nYou will discover how to use these materials to craft several different styles of bark basket. Incorporating other barks and natural materials\, we will assemble and add rims\, handles & décor to create one-of-a-kind creative pieces. Students will leave with several bark baskets and the know-how to complete more on their own. \nA great class for those who like getting back to Nature & working with natural materials. All levels Welcome. Moderate hand strength helpful. \nAll tools and materials needed by the students for this class will be provided by the instructor\, and is all inclusive for the class fee of $250.
URL:https://mhcrafted.com/event/making-traditional-bark-basketry-at-mhcrafted-workshop/
LOCATION:MOUNTAIN HERITAGE HANDCRAFT STUDIO\, 2639 Maxwell Road\, Blue Ridge\, GA\, 30513\, United States
CATEGORIES:MH CLASSES
ATTACH;FMTTYPE=image/jpeg:https://mhcrafted.com/wp-content/uploads/2017/05/Traditional-Appalachian-Bark-Baskets.jpg
ORGANIZER;CN="Max Hendry":MAILTO:mail@MHcrafted.com
END:VEVENT
END:VCALENDAR