BEGIN:VCALENDAR
VERSION:2.0
PRODID:-//MHcrafted - ECPv6.15.20//NONSGML v1.0//EN
CALSCALE:GREGORIAN
METHOD:PUBLISH
X-ORIGINAL-URL:https://mhcrafted.com
X-WR-CALDESC:Events for MHcrafted
REFRESH-INTERVAL;VALUE=DURATION:PT1H
X-Robots-Tag:noindex
X-PUBLISHED-TTL:PT1H
BEGIN:VTIMEZONE
TZID:UTC
BEGIN:STANDARD
TZOFFSETFROM:+0000
TZOFFSETTO:+0000
TZNAME:UTC
DTSTART:20190101T000000
END:STANDARD
END:VTIMEZONE
BEGIN:VEVENT
DTSTART;VALUE=DATE:20201101
DTEND;VALUE=DATE:20201108
DTSTAMP:20260420T071818
CREATED:20200307T203705Z
LAST-MODIFIED:20200307T203705Z
UID:2075-1604188800-1604793599@mhcrafted.com
SUMMARY:SHAKER BROOMS & BASKETS at John C. Campbell Folk School
DESCRIPTION:It’s the best of both worlds\, brooms and baskets\, when broom craftsman Mark Hendry teams up with bad-ass black ash basketeer Jo Ann Kelly Catsos for a wonderful week of Shaker inspired crafts\, history and folklore at the renowned John C. Campbell Folk School in bucolic Brasstown\, North Carolina. \nWeave with prepared black ash splint over a wooden mold to create the quintessential Shaker basket. Then make a Shaker-style plaited sweeper broom. With a taste of both crafts under your belt\, you can explore the two worlds as your interest moves you\, with some guidance\, and you’ll design and work on additional projects as time allows. \nFor more information\, click on the link below: \nJCCFS/shakerweek
URL:https://mhcrafted.com/event/shaker-brooms-baskets-at-john-c-campbell-folk-school/
LOCATION:John C. Campbell Folk School\, 1 Folk School Road\, Brasstown\, NC\, 28902\, United States
CATEGORIES:TEACHING
END:VEVENT
END:VCALENDAR