BEGIN:VCALENDAR
VERSION:2.0
PRODID:-//MHcrafted - ECPv6.15.20//NONSGML v1.0//EN
CALSCALE:GREGORIAN
METHOD:PUBLISH
X-ORIGINAL-URL:https://mhcrafted.com
X-WR-CALDESC:Events for MHcrafted
REFRESH-INTERVAL;VALUE=DURATION:PT1H
X-Robots-Tag:noindex
X-PUBLISHED-TTL:PT1H
BEGIN:VTIMEZONE
TZID:UTC
BEGIN:STANDARD
TZOFFSETFROM:+0000
TZOFFSETTO:+0000
TZNAME:UTC
DTSTART:20190101T000000
END:STANDARD
END:VTIMEZONE
BEGIN:VEVENT
DTSTART;VALUE=DATE:20201011
DTEND;VALUE=DATE:20201017
DTSTAMP:20260420T091806
CREATED:20180127T144334Z
LAST-MODIFIED:20200307T202023Z
UID:1692-1602374400-1602892799@mhcrafted.com
SUMMARY:BROOM MAKING at John C. Campbell Folk School
DESCRIPTION:Mark Hendry will be teaching a week long class on THE ART OF BROOM MAKING at the John C. Campbell Folk School in Brasstown\, North Carolina this Fall. Students will experience traditional Appalachian Broom Making from the ground up as they sort & prep broomcorn\, learn to harvest and finish handles\, and explore various broom designs and construction techniques from the 18th century tradition. Students will learn to make a variety of styles including whisks\, hearth & floor sweepers and cobweb besoms\, along with options for decorative more artistic brooms. Participants will leave with a treasure trove of brooms\, asl well as the know-how to continue making brooms on their own. All levels welcome; moderate hand & upper-body strength helpful.  \nFor more information\, visit FOLKSCHOOL.org
URL:https://mhcrafted.com/event/broom-making-class-at-john-c-campbell-folk-school/
LOCATION:John C. Campbell Folk School\, 1 Folk School Road\, Brasstown\, NC\, 28902\, United States
CATEGORIES:TEACHING
ATTACH;FMTTYPE=image/jpeg:https://mhcrafted.com/wp-content/uploads/2018/01/JCCFS-Broom-class.jpg
END:VEVENT
END:VCALENDAR