BEGIN:VCALENDAR
VERSION:2.0
PRODID:-//MHcrafted - ECPv6.15.20//NONSGML v1.0//EN
CALSCALE:GREGORIAN
METHOD:PUBLISH
X-ORIGINAL-URL:https://mhcrafted.com
X-WR-CALDESC:Events for MHcrafted
REFRESH-INTERVAL;VALUE=DURATION:PT1H
X-Robots-Tag:noindex
X-PUBLISHED-TTL:PT1H
BEGIN:VTIMEZONE
TZID:UTC
BEGIN:STANDARD
TZOFFSETFROM:+0000
TZOFFSETTO:+0000
TZNAME:UTC
DTSTART:20190101T000000
END:STANDARD
END:VTIMEZONE
BEGIN:VEVENT
DTSTART;TZID=UTC:20200919T103000
DTEND;TZID=UTC:20200920T170000
DTSTAMP:20260420T105028
CREATED:20200303T101059Z
LAST-MODIFIED:20200308T074628Z
UID:2030-1600511400-1600621200@mhcrafted.com
SUMMARY:WHISKED AWAY WEEKEND at BRMAA
DESCRIPTION:Join us at the Blue Ridge Mountain Arts Association in beautiful Blue Ridge\, Georgia and spend a whirlwind weekend learning to craft various styles of handmade Appalachian inspired whisk brooms. You will learn 18th century broom making techniques sans machinery. Each day students will learn about the history and folklore of the broom and the part it played in our country’s origins\, while we explore functional decorative whisk designs\, plaiting techniques\, uses of color and at least 3 different construction styles\, to make a cache of whisks to take home\, along with the know-how to create more on their own. \nThese highly useful beautiful gems of the sweeper world make fantastic gifts\, as well as being very fun and satisfying to make. All class tools and materials are included. All levels welcome. Some hand strength required. \nClass details and registration are available on the BRMAA website: www.blueridgearts.net
URL:https://mhcrafted.com/event/whisked-away-weekend-at-brmaa/
LOCATION:Blue Ridge Mountain Arts Association\, 420 West Main Street\, Blue Ridge\, GA\, 30513\, United States
CATEGORIES:TEACHING
ATTACH;FMTTYPE=image/jpeg:https://mhcrafted.com/wp-content/uploads/2020/03/IMG_1141-1.jpeg
ORGANIZER;CN="Ginger Yaxley":MAILTO:blueridgearts.programming@gmail.com
END:VEVENT
END:VCALENDAR